BEGIN:VCALENDAR
VERSION:2.0
PRODID:-//koruc.org - ECPv6.15.17.1//NONSGML v1.0//EN
CALSCALE:GREGORIAN
METHOD:PUBLISH
X-WR-CALNAME:koruc.org
X-ORIGINAL-URL:https://www.koruc.org
X-WR-CALDESC:Évènements pour koruc.org
REFRESH-INTERVAL;VALUE=DURATION:PT1H
X-Robots-Tag:noindex
X-PUBLISHED-TTL:PT1H
BEGIN:VTIMEZONE
TZID:Europe/Paris
BEGIN:DAYLIGHT
TZOFFSETFROM:+0100
TZOFFSETTO:+0200
TZNAME:CEST
DTSTART:20240331T010000
END:DAYLIGHT
BEGIN:STANDARD
TZOFFSETFROM:+0200
TZOFFSETTO:+0100
TZNAME:CET
DTSTART:20241027T010000
END:STANDARD
BEGIN:DAYLIGHT
TZOFFSETFROM:+0100
TZOFFSETTO:+0200
TZNAME:CEST
DTSTART:20250330T010000
END:DAYLIGHT
BEGIN:STANDARD
TZOFFSETFROM:+0200
TZOFFSETTO:+0100
TZNAME:CET
DTSTART:20251026T010000
END:STANDARD
BEGIN:DAYLIGHT
TZOFFSETFROM:+0100
TZOFFSETTO:+0200
TZNAME:CEST
DTSTART:20260329T010000
END:DAYLIGHT
BEGIN:STANDARD
TZOFFSETFROM:+0200
TZOFFSETTO:+0100
TZNAME:CET
DTSTART:20261025T010000
END:STANDARD
END:VTIMEZONE
BEGIN:VEVENT
DTSTART;TZID=Europe/Paris:20250406T150000
DTEND;TZID=Europe/Paris:20250406T170000
DTSTAMP:20260421T210615
CREATED:20250404T085130Z
LAST-MODIFIED:20250404T085510Z
UID:26595-1743951600-1743958800@www.koruc.org
SUMMARY:Inauguration ciné-conférence - Exposition "L'Homme et la mer à la Préhistoire" - Préhistosite du CAIRN en Vendée
DESCRIPTION:Dimanche 6 avril 2025 au Prehistosite du CAIRN à Saint-Hilaire la Forêt : ciné conférence à 15H avec l’association Koruc à l’occasion de l’exposition « L’Homme et la mer à la Préhistoire » créée par l’association.
URL:https://www.koruc.org/evenements/cine-conference-expo-cairn-vendee/
LOCATION:Préhistosite du CAIRN en Vendée\, Rue de la Courolle\, Saint-Hilaire-la-Forêt\, Vendée\, 85440\, France
ATTACH;FMTTYPE=image/jpeg:https://www.koruc.org/wp-content/uploads/2025/04/bandeaux-site-prehisto-2025-expo-evenement-6-AVRIL.jpg
END:VEVENT
END:VCALENDAR