BEGIN:VCALENDAR
VERSION:2.0
PRODID:-//koruc.org - ECPv6.15.17.1//NONSGML v1.0//EN
CALSCALE:GREGORIAN
METHOD:PUBLISH
X-WR-CALNAME:koruc.org
X-ORIGINAL-URL:https://www.koruc.org
X-WR-CALDESC:Évènements pour koruc.org
REFRESH-INTERVAL;VALUE=DURATION:PT1H
X-Robots-Tag:noindex
X-PUBLISHED-TTL:PT1H
BEGIN:VTIMEZONE
TZID:Europe/Paris
BEGIN:DAYLIGHT
TZOFFSETFROM:+0100
TZOFFSETTO:+0200
TZNAME:CEST
DTSTART:20240331T010000
END:DAYLIGHT
BEGIN:STANDARD
TZOFFSETFROM:+0200
TZOFFSETTO:+0100
TZNAME:CET
DTSTART:20241027T010000
END:STANDARD
BEGIN:DAYLIGHT
TZOFFSETFROM:+0100
TZOFFSETTO:+0200
TZNAME:CEST
DTSTART:20250330T010000
END:DAYLIGHT
BEGIN:STANDARD
TZOFFSETFROM:+0200
TZOFFSETTO:+0100
TZNAME:CET
DTSTART:20251026T010000
END:STANDARD
BEGIN:DAYLIGHT
TZOFFSETFROM:+0100
TZOFFSETTO:+0200
TZNAME:CEST
DTSTART:20260329T010000
END:DAYLIGHT
BEGIN:STANDARD
TZOFFSETFROM:+0200
TZOFFSETTO:+0100
TZNAME:CET
DTSTART:20261025T010000
END:STANDARD
END:VTIMEZONE
BEGIN:VEVENT
DTSTART;VALUE=DATE:20250805
DTEND;VALUE=DATE:20250806
DTSTAMP:20260421T172323
CREATED:20250929T095510Z
LAST-MODIFIED:20250929T101836Z
UID:26813-1754352000-1754438399@www.koruc.org
SUMMARY:Eté culturel - Camping d'Aleth - 56380 Saint-Malo-de-Beignon
DESCRIPTION:Venez nous retrouver à l’occasion de l’été culturel pour participer à des animations gratuites sur le thème de la Préhistoire et des premières navigations.
URL:https://www.koruc.org/evenements/ete-culturel-camping-daleth-56380-saint-malo-de-beignon/
ATTACH;FMTTYPE=image/jpeg:https://www.koruc.org/wp-content/uploads/2025/09/Affichette-camping-_-legere.jpg
END:VEVENT
END:VCALENDAR