BEGIN:VCALENDAR
VERSION:2.0
PRODID:-//koruc.org - ECPv6.15.17.1//NONSGML v1.0//EN
CALSCALE:GREGORIAN
METHOD:PUBLISH
X-WR-CALNAME:koruc.org
X-ORIGINAL-URL:https://www.koruc.org
X-WR-CALDESC:Évènements pour koruc.org
REFRESH-INTERVAL;VALUE=DURATION:PT1H
X-Robots-Tag:noindex
X-PUBLISHED-TTL:PT1H
BEGIN:VTIMEZONE
TZID:Europe/Paris
BEGIN:DAYLIGHT
TZOFFSETFROM:+0100
TZOFFSETTO:+0200
TZNAME:CEST
DTSTART:20240331T010000
END:DAYLIGHT
BEGIN:STANDARD
TZOFFSETFROM:+0200
TZOFFSETTO:+0100
TZNAME:CET
DTSTART:20241027T010000
END:STANDARD
BEGIN:DAYLIGHT
TZOFFSETFROM:+0100
TZOFFSETTO:+0200
TZNAME:CEST
DTSTART:20250330T010000
END:DAYLIGHT
BEGIN:STANDARD
TZOFFSETFROM:+0200
TZOFFSETTO:+0100
TZNAME:CET
DTSTART:20251026T010000
END:STANDARD
BEGIN:DAYLIGHT
TZOFFSETFROM:+0100
TZOFFSETTO:+0200
TZNAME:CEST
DTSTART:20260329T010000
END:DAYLIGHT
BEGIN:STANDARD
TZOFFSETFROM:+0200
TZOFFSETTO:+0100
TZNAME:CET
DTSTART:20261025T010000
END:STANDARD
END:VTIMEZONE
BEGIN:VEVENT
DTSTART;TZID=Europe/Paris:20250826T100000
DTEND;TZID=Europe/Paris:20250826T120000
DTSTAMP:20260421T140725
CREATED:20250929T100650Z
LAST-MODIFIED:20250929T101856Z
UID:26819-1756202400-1756209600@www.koruc.org
SUMMARY:Eté culturel - Camping de la vallée du Ninian - 56800 Taupont
DESCRIPTION:Venez nous retrouver à l’occasion de l’été culturel pour participer à des animations gratuites sur le thème de la Préhistoire et des premières navigations.
URL:https://www.koruc.org/evenements/ete-culturel-camping-de-la-vallee-du-ninian-56800-taupont/
ATTACH;FMTTYPE=image/jpeg:https://www.koruc.org/wp-content/uploads/2025/09/Affichette-camping-_-legere.jpg
END:VEVENT
END:VCALENDAR