BEGIN:VCALENDAR
VERSION:2.0
PRODID:-//koruc.org - ECPv6.15.20//NONSGML v1.0//EN
CALSCALE:GREGORIAN
METHOD:PUBLISH
X-WR-CALNAME:koruc.org
X-ORIGINAL-URL:https://www.koruc.org
X-WR-CALDESC:Évènements pour koruc.org
REFRESH-INTERVAL;VALUE=DURATION:PT1H
X-Robots-Tag:noindex
X-PUBLISHED-TTL:PT1H
BEGIN:VTIMEZONE
TZID:Europe/Paris
BEGIN:DAYLIGHT
TZOFFSETFROM:+0100
TZOFFSETTO:+0200
TZNAME:CEST
DTSTART:20210328T010000
END:DAYLIGHT
BEGIN:STANDARD
TZOFFSETFROM:+0200
TZOFFSETTO:+0100
TZNAME:CET
DTSTART:20211031T010000
END:STANDARD
BEGIN:DAYLIGHT
TZOFFSETFROM:+0100
TZOFFSETTO:+0200
TZNAME:CEST
DTSTART:20220327T010000
END:DAYLIGHT
BEGIN:STANDARD
TZOFFSETFROM:+0200
TZOFFSETTO:+0100
TZNAME:CET
DTSTART:20221030T010000
END:STANDARD
BEGIN:DAYLIGHT
TZOFFSETFROM:+0100
TZOFFSETTO:+0200
TZNAME:CEST
DTSTART:20230326T010000
END:DAYLIGHT
BEGIN:STANDARD
TZOFFSETFROM:+0200
TZOFFSETTO:+0100
TZNAME:CET
DTSTART:20231029T010000
END:STANDARD
END:VTIMEZONE
BEGIN:VEVENT
DTSTART;VALUE=DATE:20220710
DTEND;VALUE=DATE:20220715
DTSTAMP:20260423T232439
CREATED:20220525T150421Z
LAST-MODIFIED:20220525T150421Z
UID:25078-1657411200-1657843199@www.koruc.org
SUMMARY:Fêtes maritimes de Brest du 10 au 14 juillet 2022
DESCRIPTION:Annulé en 2020\, ce rassemblement incontournable fêtera ses trente ans lors de l’édition 2022. \nRetrouvez-nous et venez découvrir un chantier de construction d’une pirogue monoxyle du Néolithique avec des outils en pierre ! Au programme : exposition d’outils\, présentation d’instruments de pêche\, démonstrations et initiations au travail avec des outils en pierre\, possible mise à l’eau et essais de navigation. \nhttps://www.fetesmaritimesdebrest.fr/
URL:https://www.koruc.org/evenements/fetes-maritimes-de-brest-du-10-au-14-juillet-2022/
LOCATION:Brest\, Brest\, 29200
ATTACH;FMTTYPE=image/png:https://www.koruc.org/wp-content/uploads/2022/05/fete-maritime-Brest-2022.png
END:VEVENT
END:VCALENDAR