BEGIN:VCALENDAR
VERSION:2.0
PRODID:-//koruc.org - ECPv6.15.17.1//NONSGML v1.0//EN
CALSCALE:GREGORIAN
METHOD:PUBLISH
X-WR-CALNAME:koruc.org
X-ORIGINAL-URL:https://www.koruc.org
X-WR-CALDESC:Évènements pour koruc.org
REFRESH-INTERVAL;VALUE=DURATION:PT1H
X-Robots-Tag:noindex
X-PUBLISHED-TTL:PT1H
BEGIN:VTIMEZONE
TZID:Europe/Paris
BEGIN:DAYLIGHT
TZOFFSETFROM:+0100
TZOFFSETTO:+0200
TZNAME:CEST
DTSTART:20250330T010000
END:DAYLIGHT
BEGIN:STANDARD
TZOFFSETFROM:+0200
TZOFFSETTO:+0100
TZNAME:CET
DTSTART:20251026T010000
END:STANDARD
BEGIN:DAYLIGHT
TZOFFSETFROM:+0100
TZOFFSETTO:+0200
TZNAME:CEST
DTSTART:20260329T010000
END:DAYLIGHT
BEGIN:STANDARD
TZOFFSETFROM:+0200
TZOFFSETTO:+0100
TZNAME:CET
DTSTART:20261025T010000
END:STANDARD
BEGIN:DAYLIGHT
TZOFFSETFROM:+0100
TZOFFSETTO:+0200
TZNAME:CEST
DTSTART:20270328T010000
END:DAYLIGHT
BEGIN:STANDARD
TZOFFSETFROM:+0200
TZOFFSETTO:+0100
TZNAME:CET
DTSTART:20271031T010000
END:STANDARD
END:VTIMEZONE
BEGIN:VEVENT
DTSTART;VALUE=DATE:20260405
DTEND;VALUE=DATE:20261101
DTSTAMP:20260422T091123
CREATED:20260313T162958Z
LAST-MODIFIED:20260313T165143Z
UID:27013-1775347200-1793491199@www.koruc.org
SUMMARY:Exposition « L’Homme et la mer à la Préhistoire » : 5 avril au 31 octobre 2026 
DESCRIPTION:Découvrez les hypothèses des premières embarcations à la Préhistoire et immergez-vous dans les travaux expérimentaux des archéologues pour construire ces bateaux à partir des outils dont disposaient les constructeurs au Mésolithique et au Néolithique.
URL:https://www.koruc.org/evenements/exposition-lhomme-et-la-mer-a-la-prehistoire-5-avril-au-31-octobre-2026/
LOCATION:Préhistosite du CAIRN en Vendée\, Rue de la Courolle\, Saint-Hilaire-la-Forêt\, Vendée\, 85440\, France
ATTACH;FMTTYPE=image/jpeg:https://www.koruc.org/wp-content/uploads/2025/04/logo-CAIRN.jpg
END:VEVENT
BEGIN:VEVENT
DTSTART;VALUE=DATE:20260521
DTEND;VALUE=DATE:20260525
DTSTAMP:20260422T091123
CREATED:20260313T163104Z
LAST-MODIFIED:20260313T164751Z
UID:27017-1779321600-1779667199@www.koruc.org
SUMMARY:Chantier participatif de construction d’une pirogue du Néolithique
DESCRIPTION:Partez à la découverte des embarcations de la Préhistoire à travers la découverte d’une exposition pédagogique et venez participer à la construction d’une pirogue du Néolithique avec des outils en pierre polie. Des jeux à faire en famille complèteront le programme des animations.
URL:https://www.koruc.org/evenements/chantier-participatif-de-construction-dune-pirogue-du-neolithique/
LOCATION:Archéosite de la Haute-Île\, 220\, Avenue Jean Jaurès\, Neuilly-sur-Marne\, 93330\, France
ATTACH;FMTTYPE=image/jpeg:https://www.koruc.org/wp-content/uploads/2021/06/Logo_archeosite-pdf-1.jpg
END:VEVENT
BEGIN:VEVENT
DTSTART;TZID=Europe/Paris:20260522T180000
DTEND;TZID=Europe/Paris:20260522T200000
DTSTAMP:20260422T091123
CREATED:20260313T163237Z
LAST-MODIFIED:20260313T164718Z
UID:27019-1779472800-1779480000@www.koruc.org
SUMMARY:Conférence LES EMBARCATIONS DE LA PRÉHISTOIRE
DESCRIPTION:Depuis les premières liaisons insulaires mondiales\, répertoriées à partir de – 700 000 ans en Asie du Sud-Est\, de nombreux types de bateaux ont probablement co-existé\, en mer comme dans les eaux intérieures. On peut envisager\, pour la Préhistoire\, des pirogues monoxyles ou des embarcations composites\, à l’architecture fondée sur l’exploitation des ressources végétales et animales offertes localement. Toutes ces embarcations ont en commun un faible franc-bord et souvent un modeste gabarit qui influent fortement sur leurs capacités de manœuvre et sur leur résistance à la dynamique maritime. \nPar Michel PHILIPPE\, (UMR 7324 CITERES-LAT)\, co-fondateur de l’association Koruc – navigations préhistoriques
URL:https://www.koruc.org/evenements/conference-les-embarcations-de-la-prehistoire/
LOCATION:Cosquer Méditerrannée\, Promenade Robert Lafffont\, Marseille\, 13002\, France
ATTACH;FMTTYPE=image/jpeg:https://www.koruc.org/wp-content/uploads/2026/03/Cosquer.jpg
END:VEVENT
BEGIN:VEVENT
DTSTART;VALUE=DATE:20260715
DTEND;VALUE=DATE:20260717
DTSTAMP:20260422T091123
CREATED:20260313T163336Z
LAST-MODIFIED:20260313T164704Z
UID:27022-1784073600-1784246399@www.koruc.org
SUMMARY:Festival de reconstitutions sur la Préhistoire
DESCRIPTION:Pendant deux jours\, le Paléosite vibrera au rythme des démonstrations et des animations proposées par des associations spécialisées venues de toute la France. Navigation préhistorique\, tannage de peaux\, poterie ancienne\, taille de silex… autant de savoir-faire ancestraux à découvrir au fil des campements installés dans le parc. \nL’association Koruc proposera un chantier participatif de construction d’une pirogue avec des outils du Néolithique.
URL:https://www.koruc.org/evenements/festival-de-reconstitutions-sur-la-prehistoire/
LOCATION:Paléosite de Saint-Césaire\, Route de la montée verte\, Saint-Césaire\, 17770\, France
ATTACH;FMTTYPE=image/png:https://www.koruc.org/wp-content/uploads/2025/05/image.png
END:VEVENT
BEGIN:VEVENT
DTSTART;VALUE=DATE:20260804
DTEND;VALUE=DATE:20260805
DTSTAMP:20260422T091123
CREATED:20260313T163512Z
LAST-MODIFIED:20260313T164600Z
UID:27024-1785801600-1785887999@www.koruc.org
SUMMARY:Atelier participatif autour de la découverte des représentations gravées consacrées au monde marin sur les mégalithes morbihannais
DESCRIPTION:Locmariaquer/Table des Marchands \nLes gravures retrouvées sur les mégalithes morbihannais font aujourd’hui l’objet d’études renouvelées grâce à l’émergence de nouvelles méthodes et outils d’observation. Elles révèlent ainsi l’omniprésence du monde maritime à travers les représentations de la mer\, des embarcations et de certains animaux marins. \nA partir de la découverte de ces gravures\, les visiteurs seront invités à modeler\, avec de l’argile\, leur propre menhir qui sera ensuite gravé de motifs néolithiques\, racontant ainsi leur propre récit et vision du monde maritime au Néolithique. \nEn partenariat avec Préhistoire interactive.
URL:https://www.koruc.org/evenements/atelier-participatif-autour-de-la-decouverte-des-representations-gravees-consacrees-au-monde-marin-sur-les-megalithes-morbihannais/
LOCATION:Locmariaquer\, Locmariaquer\, 56740
ATTACH;FMTTYPE=image/jpeg:https://www.koruc.org/wp-content/uploads/2022/05/logo-CMN.jpg
END:VEVENT
BEGIN:VEVENT
DTSTART;VALUE=DATE:20260818
DTEND;VALUE=DATE:20260819
DTSTAMP:20260422T091123
CREATED:20260313T163537Z
LAST-MODIFIED:20260313T164554Z
UID:27025-1787011200-1787097599@www.koruc.org
SUMMARY:Atelier participatif autour de la découverte des représentations gravées consacrées au monde marin sur les mégalithes morbihannais
DESCRIPTION:Locmariaquer/Table des Marchands \nLes gravures retrouvées sur les mégalithes morbihannais font aujourd’hui l’objet d’études renouvelées grâce à l’émergence de nouvelles méthodes et outils d’observation. Elles révèlent ainsi l’omniprésence du monde maritime à travers les représentations de la mer\, des embarcations et de certains animaux marins. \nA partir de la découverte de ces gravures\, les visiteurs seront invités à modeler\, avec de l’argile\, leur propre menhir qui sera ensuite gravé de motifs néolithiques\, racontant ainsi leur propre récit et vision du monde maritime au Néolithique. \nEn partenariat avec Préhistoire interactive.
URL:https://www.koruc.org/evenements/atelier-participatif-autour-de-la-decouverte-des-representations-gravees-consacrees-au-monde-marin-sur-les-megalithes-morbihannais-2/
LOCATION:Locmariaquer\, Locmariaquer\, 56740
ATTACH;FMTTYPE=image/jpeg:https://www.koruc.org/wp-content/uploads/2022/05/logo-CMN.jpg
END:VEVENT
BEGIN:VEVENT
DTSTART;VALUE=DATE:20260820
DTEND;VALUE=DATE:20260821
DTSTAMP:20260422T091123
CREATED:20260313T163558Z
LAST-MODIFIED:20260313T164519Z
UID:27026-1787184000-1787270399@www.koruc.org
SUMMARY:Atelier participatif autour de la découverte des représentations gravées consacrées au monde marin sur les mégalithes morbihannais
DESCRIPTION:Locmariaquer/Table des Marchands \nLes gravures retrouvées sur les mégalithes morbihannais font aujourd’hui l’objet d’études renouvelées grâce à l’émergence de nouvelles méthodes et outils d’observation. Elles révèlent ainsi l’omniprésence du monde maritime à travers les représentations de la mer\, des embarcations et de certains animaux marins. \nA partir de la découverte de ces gravures\, les visiteurs seront invités à modeler\, avec de l’argile\, leur propre menhir qui sera ensuite gravé de motifs néolithiques\, racontant ainsi leur propre récit et vision du monde maritime au Néolithique. \nEn partenariat avec Préhistoire interactive.
URL:https://www.koruc.org/evenements/atelier-participatif-autour-de-la-decouverte-des-representations-gravees-consacrees-au-monde-marin-sur-les-megalithes-morbihannais-3/
LOCATION:Locmariaquer\, Locmariaquer\, 56740
ATTACH;FMTTYPE=image/jpeg:https://www.koruc.org/wp-content/uploads/2022/05/logo-CMN.jpg
END:VEVENT
BEGIN:VEVENT
DTSTART;VALUE=DATE:20260916
DTEND;VALUE=DATE:20260921
DTSTAMP:20260422T091123
CREATED:20260313T163702Z
LAST-MODIFIED:20260313T165104Z
UID:27030-1789516800-1789948799@www.koruc.org
SUMMARY:Journées européennes du patrimoine : 16 au 20 septembre 2026
DESCRIPTION:A l’occasion des Journées européennes du patrimoine venez découvrir différentes embarcations susceptibles d’avoir existé au Néolithique. Au programme : conférence /ciné débat\, baptêmes en pirogue\, chantier de construction d’un bateau de gerbes végétales\, atelier famille consacré aux représentations gravées d’embarcations présentes sur les mégalithes\, exposition itinérante\, jeux en autonomie.
URL:https://www.koruc.org/evenements/journees-europeennes-du-patrimoine-16-au-20-septembre-2026/
LOCATION:Musée archéologique du Lac de Paladru\, 51 rue du musée\, Villages du Lac de Pladru\, 38850\, France
ATTACH;FMTTYPE=image/jpeg:https://www.koruc.org/wp-content/uploads/2026/03/Paladru.jpg
END:VEVENT
END:VCALENDAR